BEGIN:VCALENDAR
VERSION:2.0
PRODID:-//jEvents 2.0 for Joomla//EN
CALSCALE:GREGORIAN
METHOD:PUBLISH
BEGIN:VTIMEZONE
TZID:America/New_York
END:VTIMEZONE
BEGIN:VEVENT
UID:76D0D19F-C9FE-4AB9-946D-FFF848C398EF
CATEGORIES:DEFAULT
CREATED:20220426T085617
SUMMARY:Tribal Revival @mcdonald Bon ton $500
DESCRIPTION:With Michael
DTSTAMP:20260419T213211
DTSTART;TZID=America/New_York:20220723T170000
DTEND;TZID=America/New_York:20220723T190000
SEQUENCE:0
TRANSP:OPAQUE
END:VEVENT
END:VCALENDAR