BEGIN:VCALENDAR
VERSION:2.0
PRODID:-//jEvents 2.0 for Joomla//EN
CALSCALE:GREGORIAN
METHOD:PUBLISH
BEGIN:VTIMEZONE
TZID:America/New_York
END:VTIMEZONE
BEGIN:VEVENT
UID:F0DEC10C-DB34-4465-BF54-9DE740653897
CATEGORIES:DEFAULT
CREATED:20220426T085617
SUMMARY:Tribal duo and bando 
LOCATION:3977 Highland Rd\nCortland\, NY\, United States
DESCRIPTION:With Michael
DTSTAMP:20260419T213325
DTSTART;TZID=America/New_York:20220827T150000
DTEND;TZID=America/New_York:20220827T190000
SEQUENCE:0
TRANSP:OPAQUE
END:VEVENT
END:VCALENDAR