BEGIN:VCALENDAR
VERSION:2.0
PRODID:-//jEvents 2.0 for Joomla//EN
CALSCALE:GREGORIAN
METHOD:PUBLISH
BEGIN:VTIMEZONE
TZID:America/New_York
END:VTIMEZONE
BEGIN:VEVENT
UID:71E583B0-BDEE-48C9-9F48-51A2875CF3EA
CATEGORIES:DEFAULT
CREATED:20220426T085617
SUMMARY:Tribal Revival Band @ONCO
LOCATION:ONCO Fermentations\n397 NY RT 281\, Suite O\, Tully\, NY 13159\, United Sta
 tes
DESCRIPTION:
DTSTAMP:20260419T212735
DTSTART;TZID=America/New_York:20220813T180000
DTEND;TZID=America/New_York:20220813T210000
SEQUENCE:0
TRANSP:OPAQUE
END:VEVENT
END:VCALENDAR