BEGIN:VCALENDAR
VERSION:2.0
PRODID:-//jEvents 2.0 for Joomla//EN
CALSCALE:GREGORIAN
METHOD:PUBLISH
BEGIN:VTIMEZONE
TZID:America/New_York
END:VTIMEZONE
BEGIN:VEVENT
UID:F179420F-264D-4E0C-BB85-42236FF14DD1
CATEGORIES:DEFAULT
CLASS:PUBLIC
CREATED:20220426T085617
SUMMARY:Tribal Revival Band @ONCO
LOCATION:ONCO Fermentations\n397 NY RT 281\, Suite O\, Tully\, NY 13159\, United Sta
 tes
DESCRIPTION:
DTSTAMP:20260419T175259
DTSTART;TZID=America/New_York:20220610T183000
DTEND;TZID=America/New_York:20220610T213000
SEQUENCE:1
TRANSP:OPAQUE
END:VEVENT
END:VCALENDAR