BEGIN:VCALENDAR
VERSION:2.0
PRODID:-//jEvents 2.0 for Joomla//EN
CALSCALE:GREGORIAN
METHOD:PUBLISH
BEGIN:VTIMEZONE
TZID:America/New_York
END:VTIMEZONE
BEGIN:VEVENT
UID:634353E7-2019-4683-8140-2BCEA9522367
CATEGORIES:DEFAULT
CLASS:PUBLIC
CREATED:20220426T085617
SUMMARY:Tribal Duo @brightleaf
LOCATION:Bright Leaf Vineyard 1250 Clearview Rd\, King Ferry\, NY  13081\, United St
 ates
DESCRIPTION:
DTSTAMP:20260419T175018
DTSTART;TZID=America/New_York:20220619T120000
DTEND;TZID=America/New_York:20220619T150000
SEQUENCE:1
TRANSP:OPAQUE
END:VEVENT
END:VCALENDAR