BEGIN:VCALENDAR
VERSION:2.0
PRODID:-//jEvents 2.0 for Joomla//EN
CALSCALE:GREGORIAN
METHOD:PUBLISH
BEGIN:VTIMEZONE
TZID:America/New_York
END:VTIMEZONE
BEGIN:VEVENT
UID:1474E3A2-3B0F-4946-A9E1-26D868512C11
CATEGORIES:DEFAULT
CREATED:20220426T085617
SUMMARY:Tribal Revival @drifters 2hr straight
LOCATION:Drifters on Owasco\n2846 Fire Ln 1\, Moravia\, NY  13118\, United States
DESCRIPTION:
DTSTAMP:20260419T212920
DTSTART;TZID=America/New_York:20220812T190000
DTEND;TZID=America/New_York:20220812T210000
SEQUENCE:0
TRANSP:OPAQUE
END:VEVENT
END:VCALENDAR