BEGIN:VCALENDAR
VERSION:2.0
PRODID:-//jEvents 2.0 for Joomla//EN
CALSCALE:GREGORIAN
METHOD:PUBLISH
BEGIN:VTIMEZONE
TZID:America/New_York
END:VTIMEZONE
BEGIN:VEVENT
UID:E08D8318-4E27-4854-BB53-E5159D595CF0
CATEGORIES:DEFAULT
CREATED:20220426T085617
SUMMARY:Tribal Revival @Hosmer Michael 
LOCATION:Hosmer Winery\n7020 State Route 89\, Ovid\, NY  14521\, United States
DESCRIPTION:With Michael
DTSTAMP:20260419T212618
DTSTART;TZID=America/New_York:20220806T130000
DTEND;TZID=America/New_York:20220806T160000
SEQUENCE:0
TRANSP:OPAQUE
END:VEVENT
END:VCALENDAR