BEGIN:VCALENDAR
VERSION:2.0
PRODID:-//jEvents 2.0 for Joomla//EN
CALSCALE:GREGORIAN
METHOD:PUBLISH
BEGIN:VTIMEZONE
TZID:America/New_York
END:VTIMEZONE
BEGIN:VEVENT
UID:D9023179-3B7B-49F3-957A-1B9723840536
CATEGORIES:DEFAULT
CLASS:PUBLIC
CREATED:20220426T085617
SUMMARY:Tribal Duo (Sonny) @treleavan
LOCATION:Treleaven King Ferry Winery\n658 Lake Rd\, King Ferry\, NY  13081\, United 
 States
DESCRIPTION:
DTSTAMP:20260419T212612
DTSTART;TZID=America/New_York:20220501T130000
DTEND;TZID=America/New_York:20220501T160000
SEQUENCE:0
TRANSP:OPAQUE
END:VEVENT
END:VCALENDAR