BEGIN:VCALENDAR
VERSION:2.0
PRODID:-//jEvents 2.0 for Joomla//EN
CALSCALE:GREGORIAN
METHOD:PUBLISH
BEGIN:VTIMEZONE
TZID:America/New_York
END:VTIMEZONE
BEGIN:VEVENT
UID:C765CB97-840B-49ED-BBB1-5C12C66F9823
CATEGORIES:DEFAULT
CREATED:20220426T085617
SUMMARY:Tribal Revival Band at Sean’s shop
DESCRIPTION:With michael
DTSTAMP:20260419T175939
DTSTART;TZID=America/New_York:20220618T180000
DTEND;TZID=America/New_York:20220618T210000
SEQUENCE:0
TRANSP:OPAQUE
END:VEVENT
END:VCALENDAR