BEGIN:VCALENDAR
VERSION:2.0
PRODID:-//jEvents 2.0 for Joomla//EN
CALSCALE:GREGORIAN
METHOD:PUBLISH
BEGIN:VTIMEZONE
TZID:America/New_York
END:VTIMEZONE
BEGIN:VEVENT
UID:2765CC95-663C-4003-972C-4EF38FE96FA0
CATEGORIES:DEFAULT
CREATED:20220426T085617
SUMMARY:Tribal Revival @finger lakes marina
LOCATION:Finger Lakes Marine Service\n44 Marina Rd\, Lansing\, NY  14882\, United St
 ates
DESCRIPTION:
DTSTAMP:20260419T213109
DTSTART;TZID=America/New_York:20220903T130000
DTEND;TZID=America/New_York:20220903T160000
SEQUENCE:0
TRANSP:OPAQUE
END:VEVENT
END:VCALENDAR