BEGIN:VCALENDAR
VERSION:2.0
PRODID:-//jEvents 2.0 for Joomla//EN
CALSCALE:GREGORIAN
METHOD:PUBLISH
BEGIN:VTIMEZONE
TZID:America/New_York
END:VTIMEZONE
BEGIN:VEVENT
UID:851A557D-AD9B-4BF5-99B3-5F8A16653164
CATEGORIES:DEFAULT
CREATED:20220426T085617
SUMMARY:Tribal Duo @ Hosmer Winery -Music and Mimosas
LOCATION:Hosmer Winery\n7020 State Route 89\, Ovid\, NY  14521\, United States
DESCRIPTION:
DTSTAMP:20260419T195656
DTSTART;TZID=America/New_York:20220529T130000
DTEND;TZID=America/New_York:20220529T160000
SEQUENCE:1
TRANSP:OPAQUE
END:VEVENT
END:VCALENDAR