BEGIN:VCALENDAR
VERSION:2.0
PRODID:-//jEvents 2.0 for Joomla//EN
CALSCALE:GREGORIAN
METHOD:PUBLISH
BEGIN:VTIMEZONE
TZID:America/New_York
END:VTIMEZONE
BEGIN:VEVENT
UID:EF9F1C97-5E20-4EFC-8AD0-A1CA1A794D88
CATEGORIES:DEFAULT
CREATED:20220426T085617
SUMMARY:Tribal Revival @ St Anthony's Festival
DESCRIPTION:
DTSTAMP:20260419T175927
DTSTART;TZID=America/New_York:20220611T190000
DTEND;TZID=America/New_York:20220611T213000
SEQUENCE:2
TRANSP:OPAQUE
END:VEVENT
END:VCALENDAR