BEGIN:VCALENDAR
VERSION:2.0
PRODID:-//jEvents 2.0 for Joomla//EN
CALSCALE:GREGORIAN
METHOD:PUBLISH
BEGIN:VTIMEZONE
TZID:America/New_York
END:VTIMEZONE
BEGIN:VEVENT
UID:FBBB0BFF-DA05-4E4B-B5E8-515C8BC76A58
CATEGORIES:DEFAULT
CREATED:20220426T085617
SUMMARY:Tribal Duo @ Summerhill Brewing
LOCATION:Summerhill Brewing\n14392 NY-90\, Groton\, NY  13092\, United States
DESCRIPTION:
DTSTAMP:20260419T194801
DTSTART;TZID=America/New_York:20220625T170000
DTEND;TZID=America/New_York:20220625T200000
SEQUENCE:1
TRANSP:OPAQUE
END:VEVENT
END:VCALENDAR