BEGIN:VCALENDAR
VERSION:2.0
PRODID:-//jEvents 2.0 for Joomla//EN
CALSCALE:GREGORIAN
METHOD:PUBLISH
BEGIN:VTIMEZONE
TZID:America/New_York
END:VTIMEZONE
BEGIN:VEVENT
UID:892481A1-58CB-4237-8FE3-3F032D89989E
CATEGORIES:DEFAULT
CREATED:20220426T085617
SUMMARY:Tribal Fouro w Stevie & Mike
LOCATION:Darlene Winter's Home\n3977 Highland Rd\nCortland NY 13045\nUnited States
DESCRIPTION:
DTSTAMP:20260419T212545
DTSTART;TZID=America/New_York:20220720T170000
DTEND;TZID=America/New_York:20220720T210000
SEQUENCE:1
TRANSP:OPAQUE
END:VEVENT
END:VCALENDAR