BEGIN:VCALENDAR
VERSION:2.0
PRODID:-//jEvents 2.0 for Joomla//EN
CALSCALE:GREGORIAN
METHOD:PUBLISH
BEGIN:VTIMEZONE
TZID:America/New_York
END:VTIMEZONE
BEGIN:VEVENT
UID:C0514BE0-454D-41F0-BA6E-7127E70E9DD9
CATEGORIES:DEFAULT
CLASS:PUBLIC
CREATED:20220426T085617
SUMMARY:Tribal Revival Wes Kryger 60
LOCATION:Trax Pub &amp; Grill\n2000 NY-392\, Cortland\, NY  13045\, United States
DESCRIPTION:
DTSTAMP:20260419T213146
DTSTART;TZID=America/New_York:20220430T150000
DTEND;TZID=America/New_York:20220430T210000
SEQUENCE:0
TRANSP:OPAQUE
END:VEVENT
END:VCALENDAR