BEGIN:VCALENDAR
VERSION:2.0
PRODID:-//jEvents 2.0 for Joomla//EN
CALSCALE:GREGORIAN
METHOD:PUBLISH
BEGIN:VTIMEZONE
TZID:America/New_York
END:VTIMEZONE
BEGIN:VEVENT
UID:5A564B52-57BC-42DA-BA3E-6496B350E260
CATEGORIES:DEFAULT
CREATED:20220426T085617
SUMMARY:Tribal Trio @ Virgil Town Gazebo
DESCRIPTION:
DTSTAMP:20260419T212718
DTSTART;TZID=America/New_York:20220803T180000
DTEND;TZID=America/New_York:20220803T200000
SEQUENCE:1
TRANSP:OPAQUE
END:VEVENT
END:VCALENDAR