BEGIN:VCALENDAR
VERSION:2.0
PRODID:-//jEvents 2.0 for Joomla//EN
CALSCALE:GREGORIAN
METHOD:PUBLISH
BEGIN:VTIMEZONE
TZID:America/New_York
END:VTIMEZONE
BEGIN:VEVENT
UID:7D73391A-03D9-42CA-A3C4-39B3CF6AFF65
CATEGORIES:DEFAULT
CREATED:20220426T085617
SUMMARY:Tribal rehearsal 
DESCRIPTION:
DTSTAMP:20260419T225710
DTSTART;TZID=America/New_York:20220428T180000
DTEND;TZID=America/New_York:20220428T200000
SEQUENCE:0
TRANSP:OPAQUE
END:VEVENT
END:VCALENDAR