BEGIN:VCALENDAR
VERSION:2.0
PRODID:-//jEvents 2.0 for Joomla//EN
CALSCALE:GREGORIAN
METHOD:PUBLISH
BEGIN:VTIMEZONE
TZID:America/New_York
END:VTIMEZONE
BEGIN:VEVENT
UID:C4F21397-CD8B-4395-A72C-EF37A3095BB2
CATEGORIES:DEFAULT
CREATED:20220426T085617
SUMMARY:Engagement dinner party
LOCATION:Darlene Winter's Home\n3977 Highland Rd\nCortland NY 13045\nUnited States
DESCRIPTION:
DTSTAMP:20260419T195743
DTSTART;TZID=America/New_York:20220622T180000
DTEND;TZID=America/New_York:20220622T210000
SEQUENCE:1
TRANSP:OPAQUE
END:VEVENT
END:VCALENDAR