BEGIN:VCALENDAR
VERSION:2.0
PRODID:-//jEvents 2.0 for Joomla//EN
CALSCALE:GREGORIAN
METHOD:PUBLISH
BEGIN:VTIMEZONE
TZID:America/New_York
END:VTIMEZONE
BEGIN:VEVENT
UID:094C2EBA-9DAA-493F-A56F-1E97A0386A6D
CATEGORIES:DEFAULT
CLASS:PUBLIC
CREATED:19691231T190000
SUMMARY:Tribal Duo @ Sweet Basil
LOCATION:Sweet Basil 3 Clinton St\, Tully\, NY  13159\, United States
DESCRIPTION:Tommy on the Man Trip ...so Marc solo or with a guest.
DTSTAMP:20260419T231351
DTSTART;TZID=America/New_York:20220802T173000
DTEND;TZID=America/New_York:20220802T193000
SEQUENCE:0
RRULE:FREQ=WEEKLY;UNTIL=20220831T000000Z;INTERVAL=1
TRANSP:OPAQUE
END:VEVENT
END:VCALENDAR