BEGIN:VCALENDAR
VERSION:2.0
PRODID:-//jEvents 2.0 for Joomla//EN
CALSCALE:GREGORIAN
METHOD:PUBLISH
BEGIN:VTIMEZONE
TZID:America/New_York
END:VTIMEZONE
BEGIN:VEVENT
UID:6666FCE8-247D-4122-9692-9D047BB3E6FE
CATEGORIES:DEFAULT
CREATED:20220912T153706
SUMMARY:Tribal  @ The Buffalo Farm
LOCATION:1033 Long Rd\nHomer\, NY\, United States
DESCRIPTION:
DTSTAMP:20260419T162456
DTSTART;TZID=America/New_York:20220702T180000
DTEND;TZID=America/New_York:20220702T200000
SEQUENCE:1
TRANSP:OPAQUE
END:VEVENT
END:VCALENDAR