BEGIN:VCALENDAR
VERSION:2.0
PRODID:-//jEvents 2.0 for Joomla//EN
CALSCALE:GREGORIAN
METHOD:PUBLISH
BEGIN:VTIMEZONE
TZID:America/New_York
END:VTIMEZONE
BEGIN:VEVENT
UID:6F3AC3C2-7080-454F-9993-0AC80C708CA5
CATEGORIES:DEFAULT
CREATED:20220912T153706
SUMMARY:Tribal Revival @ the Lookout Greek Peak
DESCRIPTION:
DTSTAMP:20260419T213053
DTSTART;TZID=America/New_York:20221020T180000
DTEND;TZID=America/New_York:20221020T210000
SEQUENCE:1
TRANSP:OPAQUE
END:VEVENT
END:VCALENDAR