BEGIN:VCALENDAR
VERSION:2.0
PRODID:-//jEvents 2.0 for Joomla//EN
CALSCALE:GREGORIAN
METHOD:PUBLISH
BEGIN:VTIMEZONE
TZID:America/New_York
END:VTIMEZONE
BEGIN:VEVENT
UID:73718BBE-3CB9-4CBC-BA05-1DCC4AD96D36
CATEGORIES:DEFAULT
CREATED:20220912T153706
SUMMARY:Tribal Duo @brightleaf
LOCATION:Bright Leaf Vineyard 1250 Clearview Rd\, King Ferry\, NY  13081\, United St
 ates
DESCRIPTION:
DTSTAMP:20260419T212002
DTSTART;TZID=America/New_York:20220824T180000
DTEND;TZID=America/New_York:20220824T200000
SEQUENCE:0
TRANSP:OPAQUE
END:VEVENT
END:VCALENDAR