BEGIN:VCALENDAR
VERSION:2.0
PRODID:-//jEvents 2.0 for Joomla//EN
CALSCALE:GREGORIAN
METHOD:PUBLISH
BEGIN:VTIMEZONE
TZID:America/New_York
END:VTIMEZONE
BEGIN:VEVENT
UID:9485CB73-C375-440B-8C3D-1846FC81B390
CATEGORIES:DEFAULT
CREATED:20220912T153706
SUMMARY:Tribal Duo @brightleaf
LOCATION:Bright Leaf Vineyard 1250 Clearview Rd\, King Ferry\, NY  13081\, United St
 ates
DESCRIPTION:
DTSTAMP:20260419T213335
DTSTART;TZID=America/New_York:20220924T130000
DTEND;TZID=America/New_York:20220924T150000
SEQUENCE:0
TRANSP:OPAQUE
END:VEVENT
END:VCALENDAR