BEGIN:VCALENDAR
VERSION:2.0
PRODID:-//jEvents 2.0 for Joomla//EN
CALSCALE:GREGORIAN
METHOD:PUBLISH
BEGIN:VTIMEZONE
TZID:America/New_York
END:VTIMEZONE
BEGIN:VEVENT
UID:9EB093EE-07C3-4238-BCFF-C142EFFFB426
CATEGORIES:DEFAULT
CLASS:PUBLIC
CREATED:20220912T153706
SUMMARY:Tribal Revival Band @treleavan
LOCATION:Treleaven King Ferry Winery\n658 Lake Rd\, King Ferry\, NY  13081\, United 
 States
DESCRIPTION:
DTSTAMP:20260419T213037
DTSTART;TZID=America/New_York:20220930T180000
DTEND;TZID=America/New_York:20220930T210000
SEQUENCE:0
TRANSP:OPAQUE
END:VEVENT
END:VCALENDAR