BEGIN:VCALENDAR
VERSION:2.0
PRODID:-//jEvents 2.0 for Joomla//EN
CALSCALE:GREGORIAN
METHOD:PUBLISH
BEGIN:VTIMEZONE
TZID:America/New_York
END:VTIMEZONE
BEGIN:VEVENT
UID:CAD3846E-EB77-4DB3-B127-368011D121F1
CATEGORIES:DEFAULT
CREATED:20220912T153706
SUMMARY:Tribal Lookout Load In/Setup
DESCRIPTION:
DTSTAMP:20260419T213238
DTSTART;TZID=America/New_York:20221020T160000
DTEND;TZID=America/New_York:20221020T175500
SEQUENCE:0
TRANSP:OPAQUE
END:VEVENT
END:VCALENDAR