BEGIN:VCALENDAR
VERSION:2.0
PRODID:-//jEvents 2.0 for Joomla//EN
CALSCALE:GREGORIAN
METHOD:PUBLISH
BEGIN:VTIMEZONE
TZID:America/New_York
END:VTIMEZONE
BEGIN:VEVENT
UID:F26D8B29-079E-4BAB-A3C3-6FB11439D926
CATEGORIES:DEFAULT
CREATED:20230313T210936
SUMMARY:Tribal council 
LOCATION:BRU 64\n64 Main St\, Cortland\, NY  13045\, United States
DESCRIPTION:
DTSTAMP:20260419T213325
DTSTART;TZID=America/New_York:20221213T100000
DTEND;TZID=America/New_York:20221213T110000
SEQUENCE:0
TRANSP:OPAQUE
END:VEVENT
END:VCALENDAR